BEGIN:VCALENDAR
VERSION:2.0
PRODID:-//hacksw/handcal//NONSGML v1.0//EN
CALSCALE:GREGORIAN
BEGIN:VEVENT
ORGANIZER;CN=Twin Disc, Inc.:MAILTO:no-reply@mail.gcs-web.com
DTEND:
UID:c7e2b6aa-12bb-46ad-9cc4-1155cd90e106
DTSTAMP:1777045020
LOCATION:https://edge.media-server.com/mmc/p/k7rigzkg/
DESCRIPTION:Event Details https://ir.twindisc.com/events/event-details/twin-disc-inc-fiscal-third-quarter-2026-conference-call\n\nWebcast: https://edge.media-server.com/mmc/p/k7rigzkg/
URL;VALUE=URI:https://edge.media-server.com/mmc/p/k7rigzkg/
SUMMARY:Twin Disc, Inc. - Twin Disc, Inc. Fiscal Third Quarter 2026 Conference Call
DTSTART:20260506T130000Z
END:VEVENT
END:VCALENDAR